Workbook

Sheet Worksheet
A1: Sizing of Septic Tank and French Drain System | G1: No of Dwelling Units | I1: Flow from dwellings with full internal water reticulation | Y1: Table 3 ― Rates of application | AH1: Interpolation of application rates | AK1: Percolation rate
G2: ----- | I2: 1 | J2: 2 | M2: Cleaning Frequency (Yrs) | O2: No.of Bedrms | P2: Required tank capacity to retain liquids for a period of 24 h | Y2: 1 | AA2: 2 | AE2: (x2-x1)x(y3-y1)/(x3-x1)+y1 | AH2: x2 | AI2: =IF(AH24<>0,AH24,IF(AH25<>0,AK2,IF(AH26<>0,AH26,0))) -> 0 | AK2: =IF(OR(B27="",B27=0),0,ROUND((60/AH25)*25,2)) -> 0
A3: OWNER :
A5: ADDRESS :
AE6: min | AF6: l/m2
A7: Septic tank sizing in accordance with D-T-S requirements of SANS 10400-P:2010 | G7: 1 | I7: Description | J7: Sewage flow | K7: No.of Bedrms | M7: ----- | O7: 2 | P7: 1500 | Q7: 1500 | R7: 1500 | S7: 1500 | T7: 1600 | U7: 1700 | V7: 1800 | W7: 1900 | Y7: Percolation time determined in accordance with percolation test | AA7: Rate of application of effluent to subsoil infiltration areas | AE7: 0 | AF7: 108 | AI7: =IF(AND(AI2<3,AI2>=0),108,0) -> 108 | AK7: =IF(AND(AK2<3,AK2>=0),108,0) -> 108
A8: Individual, Middle to High Income, Dwelling Units & Other Buildings. | G8: > 1 | J8: L/d | M8: 1 | O8: 3 | P8: 1500 | Q8: 1500 | R8: 1500 | S8: 1900 | T8: 2000 | U8: 2300 | V8: 2500 | W8: 2800 | AA8: min (L/m2 of french drain sides) | AD8: x1 | AE8: 3 | AF8: 108 | AG8: y1 | AH8: =(AI2-AE8)*(AF10-AF8)/(AE10-AE8)+AF8 -> 120 | AI8: =IF(AND(AI2<=5,AI2>=3),AH8,0) -> 0 | AJ8: 5<x>3 | AK8: =IF(AND(AK2<=5,AK2>=3),AH8,0) -> 0
I9: Low-income group: | M9: 2 | O9: 4 | P9: 1900 | Q9: 2000 | R9: 2100 | S9: 2300 | T9: 2600 | U9: 2900 | V9: 3200 | W9: 3600 | Y9: 0 | Z9: 3 | AA9: 108 | AD9: x2 | AE9: 4 | AF9: 104 | AG9: y2 | AH9: =(AI2-AE10)*(AF11-AF10)/(AE11-AE10)+AF10 -> 105 | AI9: =IF(AND(AI2<=6,AI2>5),AH9,0) -> 0 | AJ9: 6<x>5 | AK9: =IF(AND(AK2<=6,AK2>5),AH9,0) -> 0
A10: Septic Tank Sizing | I10: ----- | J10: ----- | M10: 3 | O10: 5 | P10: 2400 | Q10: 2500 | R10: 2600 | S10: 2900 | T10: 3200 | U10: 3600 | V10: 4000 | W10: 4500 | Y10: 3 | Z10: 5 | AA10: 108 | AB10: 100 | AD10: x3 | AE10: 5 | AF10: 100 | AG10: y3 | AH10: =(AI2-AE11)*(AF15-AF11)/(AE15-AE11)+AF11 -> 127.5 | AI10: =IF(AND(AI2<=10,AI2>6),AH10,0) -> 0 | AJ10: 10<x>6 | AK10: =IF(AND(AK2<=10,AK2>6),AH10,0) -> 0
I11: Per person per dwelling unit, or | J11: 70 | M11: 4 | O11: 6 | P11: 2700 | Q11: 2800 | R11: 3000 | S11: 3300 | T11: 3700 | U11: 4100 | V11: 4600 | W11: 5300 | Y11: 6 | Z11: 10 | AA11: 99 | AB11: 80 | AE11: 6 | AF11: 99 | AH11: =(AI2-AE15)*(AF16-AF15)/(AE16-AE15)+AF15 -> 90 | AI11: =IF(AND(AI2<=11,AI2>10),AH11,0) -> 0 | AJ11: 11<x>10 | AK11: =IF(AND(AK2<=11,AK2>10),AH11,0) -> 0
A12: Building type | B12: Dwelling unit with 2 bedrooms | I12: Per dwelling unit | J12: 500 | M12: 5 | O12: A minimum tank size of 5,1 m3 shall be provided where the tank serves more than one dwelling house or unit. | Y12: 11 | Z12: 15 | AA12: 79 | AB12: 65 | AE12: 7 | AF12: 94.25 | AH12: =(AI2-AE16)*(AF20-AF16)/(AE20-AE16)+AF16 -> 117.5 | AI12: =IF(AND(AI2<=15,AI2>11),AH12,0) -> 0 | AJ12: 15<x>11 | AK12: =IF(AND(AK2<=15,AK2>11),AH12,0) -> 0
I13: Middle to upper-income groups: | M13: 6 | Y13: 16 | Z13: 20 | AA13: 64 | AB13: 53 | AE13: 8 | AF13: 89.5 | AH13: =(AI2-AE20)*(AF21-AF20)/(AE21-AE20)+AF20 -> 80 | AI13: =IF(AND(AI2<=16,AI2>15),AH13,0) -> 0 | AJ13: 16<x>15 | AK13: =IF(AND(AK2<=16,AK2>15),AH13,0) -> 0
A14: =IF(OR(H15=K15,H15=0),"","Septic tank cleaning frequency (Dwellings)") -> Septic tank cleaning frequency (Dwellings) | B14: ----- | C14: =IF(OR(H15=K15,H15=0),""," Yrs") -> Yrs | I14: Per person per dwelling unit, or | J14: 160 | M14: 7 | Y14: 21 | Z14: 26 | AA14: 52 | AB14: 40 | AE14: 9 | AF14: 84.75 | AH14: =(AI2-AE21)*(AF25-AF21)/(AE25-AE21)+AF21 -> 108 | AI14: =IF(AND(AI2<=20,AI2>16),AH14,0) -> 0 | AJ14: 20<x>16 | AK14: =IF(AND(AK2<=20,AK2>16),AH14,0) -> 0
H15: =INDEX(I15:L31,MATCH(B12,I15:I31,0),3) -> 2 | I15: --- Select type of building --- | J15: ----- | K15: ----- | L15: ----- | M15: 8 | O15: Septic tank sizing | Y15: 27 | Z15: 30 | AA15: 39 | AB15: 33 | AE15: 10 | AF15: 80 | AH15: =(AI2-AE25)*(AF26-AF25)/(AE26-AE25)+AF25 -> 73 | AI15: =IF(AND(AI2<=21,AI2>20),AH15,0) -> 0 | AJ15: 21<x>20 | AK15: =IF(AND(AK2<=21,AK2>20),AH15,0) -> 0
A16: =IF(OR(H15=K15,H15<>0),"",VLOOKUP(B12,I15:L31,4,)) | C16: =IF(A16="",""," Data entry req’d") | I16: Dwelling unit with 2 bedrooms | J16: 750 | K16: 2 | L16: No.of Bedrooms | O16: =IF(OR(B12=I15,B14=M7),0,VLOOKUP(B18,O7:W11,B14+1,)) -> 0 | Y16: 30 | AA16: Not permitted | AE16: 11 | AF16: 79 | AH16: =(AI2-AE26)*(AF31-AF26)/(AE31-AE26)+AF26 -> 102.4 | AI16: =IF(AND(AI2<=26,AI2>21),AH16,0) -> 0 | AJ16: 26<x>21 | AK16: =IF(AND(AK2<=26,AK2>21),AH16,0) -> 0
I17: Dwelling unit with 3 bedrooms | J17: 900 | K17: 3 | L17: No.of Bedrooms | O17: =IF(OR(B12=I15,B14=M7),0,1) -> 0 | AE17: 12 | AF17: 75.5 | AH17: =(AI2-AE31)*(AF32-AF31)/(AE32-AE31)+AF31 -> 66 | AI17: =IF(AND(AI2<=27,AI2>26),AH17,0) -> 0 | AJ17: 27<x>26 | AK17: =IF(AND(AK2<=27,AK2>26),AH17,0) -> 0
A18: =IF(H15=K15,"",VLOOKUP(B12,I15:L31,4,)) -> No.of Bedrooms | B18: =IF(H15=0,B16,H15) -> 2 | I18: Dwelling unit with 4 bedrooms | J18: 1100 | K18: 4 | L18: No.of Bedrooms | AE18: 13 | AF18: 72 | AH18: =(AI2-AE32)*(AF35-AF32)/(AE35-AE32)+AF32 -> 93 | AI18: =IF(AND(AI2<=30,AI2>27),AH18,0) -> 0 | AJ18: 30<x>27 | AK18: =IF(AND(AK2<=30,AK2>27),AH18,0) -> 0
I19: Dwelling unit with 5 bedrooms | J19: 1400 | K19: 5 | L19: No.of Bedrooms | AE19: 14 | AF19: 68.5 | AI19: =IF(OR(AI2>30,AI2<0),AF36,0) -> 0 | AK19: =IF(OR(AK2>30,AK2<0),AF36,0) -> 0
B20: =IF(AND(OR(B12=I15,B14=M7),A16=""),0,IF(A16<>"",3*VLOOKUP(B12,I15:J31,2,)*B16,VLOOKUP(B18,O7:W11,B14+1,))) -> 0 | C20: L | I20: Dwelling unit with 6 bedrooms | J20: 1600 | K20: 6 | L20: No.of Bedrooms | AE20: 15 | AF20: 65 | AI20: =IF(AI19=AF36,AF36,SUM(AI7:AI18)) -> 108 | AK20: =IF(AK19=AF36,AF36,SUM(AK7:AK18)) -> 108
A21: Min. size of septic tank req’d | B21: =IF(B20=0,0,IF(AND(A16<>"",B20<=5100),5.1,B20/1000)) -> 0 | C21: m3 | I21: Boarding houses | J21: 110 | L21: No. of Persons | AE21: 16 | AF21: 64
I22: Hotels (No private baths) | J22: 110 | L22: No. of Persons | AE22: 17 | AF22: 61.25
A23: In-situ Percolation Test | I23: Hotels (With private baths) | J23: 140 | L23: No. of Persons | AE23: 18 | AF23: 58.5 | AH23: Application rate
I24: Restaurants (Toilet and kitchen waste) | J24: 20 | L24: No.of Patrons | AE24: 19 | AF24: 55.75 | AH24: =IF(OR(B25="",B25=0),0,B25) -> 0 | AI24: =IF(AH24=0,0,IF(OR(AH24>AF7,AH24<AF35),AF36,AH24)) -> 0
A25: Rate of application : effluent to soil | C25: L/m2 | I25: Day schools | J25: 37 | L25: No. of Persons | AE25: 20 | AF25: 53 | AH25: =IF(OR(B27="",B27=0),0,B27) -> 0 | AI25: =IF(AH25=0,0,IF(OR(AI2>AE35,AI2<AE7),AF36,AK20)) -> 0
A26: OR | I26: Offices | J26: 90 | L26: No. of Persons / shift | AE26: 21 | AF26: 52 | AH26: =IF(OR(B29="",B29=0),0,B29) -> 0 | AI26: =IF(AH26=0,0,IF(OR(AH26<AE7,AH26>AE35),AF36,AI20)) -> 0
A27: Rate of percolation | C27: mm/hr | I27: Hospitals | J27: 500 | L27: No. of Persons | AE27: 22 | AF27: 49.6 | AI27: =IF(AND(AH24=0,AH25=0),AI26,IF(AND(AH24=0,AH26=0),AI25,IF(AND(AH25=0,AH26=0),AI24,"Single Entry Req'd"))) -> 0
A28: OR | I28: Industrial | J28: 140 | L28: No. of Persons / shift | AE28: 23 | AF28: 47.2
A29: Percolation time | C29: min | I29: Swimming baths | J29: 9 | L29: No. of Persons | AE29: 24 | AF29: 44.8
A30: Time taken in minutes for the water level to drop 25 mm during in-situ percolation test | I30: Motels | J30: 90 | L30: No.of Beds | AE30: 25 | AF30: 42.4
I31: Drive-in theatres | J31: 9 | L31: No.of Car Spaces | AE31: 26 | AF31: 40
A32: Design application rate (Arate) | B32: =AI27 -> 0 | C32: L/m2 | I32: NOTE An allowance of 15 % for stormwater infiltration and other contingencies should be added to these design figures. | AE32: 27 | AF32: 39
AE33: 28 | AF33: 37
A34: French Drain Sizing | I34: Sewage flow | J34: =VLOOKUP(B12,I15:L31,2,) -> 750 | AE34: 29 | AF34: 35
I35: Stormwater infiltration @ 15% | J35: =J34*15/100 -> 112.5 | AE35: 30 | AF35: 33
A36: Sewage flow (SF) | B36: =IF(A16="",VLOOKUP(B12,I15:J31,2,),VLOOKUP(B12,I15:J31,2,)*B16) -> 750 | C36: L/d | I36: Total sewage flow | J36: =J34+(J34*15/100) -> 862.5 | AE36: > 30 | AF36: Not permitted
A37: 15% infiltration contingencies | B37: =IF(OR(B12=I15,B36=J15),0,B36*15/100) -> 112.5 | C37: L/d
A38: Design Sewage flow | B38: =IF(OR(B12=I15,B36=J15),0,B36+B36*15/100) -> 862.5 | C38: L/d | H38: =IF(OR(H15=G2,H15=0),B18,B18*2) -> 4 | I38: Sewage flow per person | J38: =IF(OR(H15=G2,H15=0),VLOOKUP(B12,I21:J31,2,)*H38,H38*J14) -> 640
A40: Trench width (W) | C40: m
A41: Suggested width between 0.6 to 0.75 m
A43: Trench height / depth (H) | C43: m
A44: Not deeper than 1.8 m – french drain depth is related to depth of in-situ percolation test hole dug
A45: Design length of french drain | B45: =IF(OR(B21=0,B32=0),0,IF(OR(B40="",B43=""),0,IF(OR(B40=0,B43=0),0,(((B38/B32)-(B40*2*B43))/(B43*2))))) -> 0 | C45: m
A46: L = ((SF / ARate) – (W x 2 x H)) / 2 x H | B46: =CONCATENATE("L"," = ","((",B38,"/",B32,")"," - ","(",B40,"x2x",B43,")) / 2x",B43) -> L = ((862.5/0) - (x2x)) / 2x
A48: French drain size | B48: =IF(OR(B21=0,B32=0),"",IF(OR(B40="",B43=""),0,IF(OR(B40=0,B43=0),0,CONCATENATE(ROUND(B45,2)," x ",ROUND(B40,2)," x ",ROUND(B43,2)," m"))))
A51: French Drain Spacing
A53: Min. spacing between parallel french drains | B53: =IF(OR(B21=0,B32=0),"",IF(OR(B40="",B43=""),0,IF(OR(B40=0,B43=0),0,B43*2))) | C53: m
A56: French Drain Exclusive Area
A58: French drain plan surface area | B58: =IF(OR(B21=0,B32=0),"",IF(OR(B40="",B43=""),0,IF(OR(B40=0,B43=0),0,(B40*3*2)+(((B45+6)*3)*2)))) | C58: m2
A59: Based on a required clearance of 3.0 m from all buildings and site boundaries.
B61: Version – 3.0

Sheet PrintOut
A1: Sizing of Septic Tank and French Drain System
A3: OWNER : | B3: =Worksheet!B3 -> 0
A5: ADDRESS : | B5: =Worksheet!B5 -> 0
A7: Septic tank sizing in accordance with D-T-S requirements of SANS 10400-P:2010
A8: Individual, Middle to High Income, Dwelling Units & Other Buildings.
A10: Septic Tank Sizing
A12: Building type | B12: =Worksheet!B12 -> Dwelling unit with 2 bedrooms
A14: =Worksheet!A18 -> No.of Bedrooms | B14: =Worksheet!B18 -> 2
A16: Min. size of septic tank req’d | B16: =Worksheet!B21 -> 0 | C16: m3
A18: In-situ Percolation Test
A20: Design application rate (Arate) | B20: =Worksheet!B32 -> 0 | C20: L/m2
A22: French Drain Sizing
A24: Sewage flow (SF) | B24: =Worksheet!B36 -> 750 | C24: L/d
A25: 15% infiltration contingencies | B25: =Worksheet!B37 -> 112.5 | C25: L/d
A26: Design Sewage flow | B26: =Worksheet!B38 -> 862.5 | C26: L/d
A29: French drain size | B29: =Worksheet!B48
A32: French Drain Spacing
A34: Min. spacing between parallel french drains | B34: =Worksheet!B53 | C34: m
A37: French Drain Exclusive Area
A39: French drain plan surface area | B39: =Worksheet!B58 | C39: m2
A40: Based on a required clearance of 3.0 m from all buildings and site boundaries.
B42: Version – 3.0

Sheet Disclaimer
A1: Sizing of Septic Tank and French Drain System
A3: [ This spreadsheet calculator is for use in conjunction with D-T-S requirements of SANS 10400-P ]
A4: V. 3.0
A6: Copyright © 2017 - M. Keuter - Some Rights Reserved
A8: Except where otherwise noted this work is licensed under Creative Commons Attribution-Noncommercial-No Derivative Works 2.5 South Africa License.
A10: Under this license
A11: You are free to:
A12: - Share :
A13: to copy, distribute and transmit the work
A14: ( for permissions beyond the scope of this public license - contact the author )
A16: Under the following conditions:
A17: - Attribution:
... A50: email: info@arcdirectory.co.za
